BEGIN:VCALENDAR
VERSION:2.0
PRODID:-//wp-events-plugin.com//7.2.3.1//EN
TZID:Europe/Brussels
X-WR-TIMEZONE:Europe/Brussels
BEGIN:VEVENT
UID:1312@assayya.be
DTSTART;TZID=Europe/Brussels:20240502T190000
DTEND;TZID=Europe/Brussels:20240627T203000
DTSTAMP:20240611T202403Z
URL:https://www.assayya.be/events/kundalini-yoga-donderdagavond-7/
SUMMARY:Kundalini Yoga donderdagavond
DESCRIPTION:Rise up your Kundalini energie\nReis door de Chakra's: De lesse
 nreeks start op 3 mei 2024\nReis door je chakra’s\, een bewustzijnsreis\
 nDe chakra’s zijn de energiecentra in ons energetisch lichaam\, die ons 
 stoffelijke lichaam van energie voorzien. Ieder chakra heeft een eigen fre
 quentie en een eigen bewustzijn. Als de energie goed stroomt in de chakra
 ’s en als er balans is\, voelen we ons geaard en verbonden. Het leren ke
 nnen van je chakra’s leert je veel over jezelf en hoe je in het leven st
 aat. Je chakra’s beter in balans brengen\, heeft een positieve uitwerkin
 g op je (dagelijks) leven. Daarom: Reis door je chakra’s\, is een bewust
 zijnsreis.\nKundalini yoga is een heel efficiënte yogavorm\, Het werkt sn
 el en fundamenteel\, je voelt en ervaart onmiddellijk het resultaat. Kunda
 lini Yoga is daarom ook bij uitstek de ‘householders’ yoga: voor mense
 n met een gevuld leven\, werken\, een gezin hebben\, zorg dragen voor ande
 ren\, …kortom: het leven zoals het meestal is. Voor Kundalini Yoga hoef 
 je ook niet bijzonder lenig te zijn\, iedereen kan met de lessen mee! De 
 sfeer is uitnodigend en de instructies zijn concreet. Een yoga les duurt o
 ngeveer anderhalf uur en kent een vaste opbouw: …intunen – yogaset –
  ontspanning – meditatie – afsluiting De nadruk ligt op de ervaring. 
 Kenmerkend voor Kundalini Yoga zijn:\n\n 	de dynamische oefeningen\,\n 	aa
 ndacht voor de adem\n 	het gebruik van mantra’s\n 	Meditatie\n\nDe oefen
 ingen helpen je bewust te worden van je fysieke\, mentale en emotionele ge
 steldheid en tegelijkertijd deze positief te beïnvloeden. Op deze manier 
 kom je er zelf al snel achter wat Kundalini Yoga met je doet en wat het vo
 or je kan betekenen. Wanneer? Donderdag avond: 19u tot ± 20u30 Prijs? Los
 se les €15 - €125\,- voor een 10 beurtenkaart (ter plaatse betalen en 
 is 4 maanden geldig) Je kan het bedrag op rekening BE40 0016 0377 5263 ove
 rschrijven of ter plaatse contant of via Payconiq.
ATTACH;FMTTYPE=image/jpeg:https://www.assayya.be/wp-content/uploads/2022/1
 1/WhatsApp-Image-2023-04-21-at-18.34.03-2-e1691153845417.jpeg
CATEGORIES:Yoga
LOCATION:Assayya\, Droomland 6a\, Bouwel\, Antwerpen\, 2288\, Grobbendonk\,
  België
GEO:51.166036;4.720172
X-APPLE-STRUCTURED-LOCATION;VALUE=URI;X-ADDRESS=Droomland 6a\, Bouwel\, Ant
 werpen\, 2288\, Grobbendonk\, België;X-APPLE-RADIUS=100;X-TITLE=Assayya:g
 eo:51.166036,4.720172
END:VEVENT
BEGIN:VTIMEZONE
TZID:Europe/Brussels
X-LIC-LOCATION:Europe/Brussels
BEGIN:DAYLIGHT
DTSTART:20240331T030000
TZOFFSETFROM:+0100
TZOFFSETTO:+0200
TZNAME:CEST
END:DAYLIGHT
END:VTIMEZONE
END:VCALENDAR